BEGIN:VCALENDAR
VERSION:2.0
PRODID:icalendar-ruby
CALSCALE:GREGORIAN
METHOD:PUBLISH
BEGIN:VEVENT
DTSTAMP:20260421T201236Z
UID:7-633598@centrallutheran132.tithelysetup5.com
DTSTART:20261026T000000Z
DTEND:20261026T010000Z
CLASS:PUBLIC
CREATED:20260421T123023
DESCRIPTION:
LAST-MODIFIED:20260421T123023
LOCATION:Fellowship Hall
SUMMARY:Sunday Supper
URL;VALUE=URI:https://www.centrallutheraneverett.com/events/sunday-supper/2
 026-10-25
ATTACH;FILENAME=pexels-fauxels-3184183.jpg;FMTTYPE=image/jpeg:https://dq5pw
 pg1q8ru0.cloudfront.net/2023/04/20/14/32/12/4de7005b-5d15-48f9-9008-a8cc8a
 135679/pexels-fauxels-3184183.jpg
END:VEVENT
END:VCALENDAR
