BEGIN:VCALENDAR
VERSION:2.0
PRODID:icalendar-ruby
CALSCALE:GREGORIAN
METHOD:PUBLISH
BEGIN:VEVENT
DTSTAMP:20260425T110143Z
UID:5-642334@centrallutheran132.tithelysetup5.com
DTSTART:20261101T180000Z
DTEND:20261101T190000Z
CLASS:PUBLIC
CREATED:20260424T185607
DESCRIPTION:Sunday Worship
LAST-MODIFIED:20260424T185607
LOCATION:
SUMMARY:Sunday Worship
URL;VALUE=URI:https://www.centrallutheraneverett.com/events/sunday-worship/
 2026-11-01
END:VEVENT
END:VCALENDAR
